BEGIN:VCALENDAR
VERSION:2.0
PRODID:-//Istanbul Experimental//Events//EN
BEGIN:VEVENT
UID:4@istanbulexperimental.com
DTSTAMP:20260422T221524Z
DTSTART:20200118T190000Z
DTEND:20200118T230000Z
SUMMARY:Are We In The Future Yet?
DESCRIPTION:Screening & Party: Are We In The Future Yet? \nJoin us for an evening exploring the intersections of cinema\, technology\, and sound. \nThe night begins with "Are We In The Future Yet?"—a film program curated by Çağrı Alver that interrogates 'future' technologies such as Robotics\, AI\, and VR within the context of contemporary human conditions. Through experimental and thought-provoking works\, this selection questions our relationship with technological progress and its impact on our present reali...
LOCATION:Dam\, İstanbul\, Turkey
END:VEVENT
END:VCALENDAR
