BEGIN:VCALENDAR
VERSION:2.0
PRODID:-//Istanbul Experimental//Events//EN
BEGIN:VEVENT
UID:11@istanbulexperimental.com
DTSTAMP:20260420T045129Z
DTSTART:20200305T110000Z
DTEND:20200307T170000Z
SUMMARY:Daily and Indefinitely Other: A Selection of Turkish Experimental Films
DESCRIPTION:This selection of five films reimagines everyday impressions through the possibilities of the camera\, transforming individuals into active bodies within a symphony of daily life. Daily and Indefinitely Other presents the poetry of quotidian practices with the depth of knowledge found in human practice's blind interiority—like lovers in each other's arms\, unknowing yet knowing.\n\nFilms:\n\n• Impressions of a Summer – Ayça Çiftçi\n• Passage of Things – Orçun Baştürk\n• Untold – Naz Önen\n• Voices of ...
LOCATION:Filmhaus Cavia\, Amsterdam\, Netherlands
END:VEVENT
END:VCALENDAR
