BEGIN:VCALENDAR
VERSION:2.0
PRODID:-//Istanbul Experimental//Events//EN
BEGIN:VEVENT
UID:3@istanbulexperimental.com
DTSTAMP:20260422T220639Z
DTSTART:20190920T170000Z
DTEND:20190920T230000Z
SUMMARY:Experimental Frames
DESCRIPTION:Join us for an evening of contemporary Turkish experimental cinema in collaboration with Ce l'ho Corto Film Festival at Ateliersi\, Bologna.\nWe're excited to present a selection from "Lost & Found: Contemporary Turkish Experimental Films" curated by Yavuz Gözeller—a program that pushes the boundaries of visual storytelling and explores innovative approaches to filmmaking.\n\nProgram:\nSelf Portrait\, Other Portraits and Things - Özden Demir (2018)\n Anxiety - Müge Yıldız (2016)\n A Visit - Dilek Ayd...
LOCATION:Ateliersi\, Bologna\, Italy
END:VEVENT
END:VCALENDAR
