BEGIN:VCALENDAR
VERSION:2.0
PRODID:-//Istanbul Experimental//Events//EN
BEGIN:VEVENT
UID:1@istanbulexperimental.com
DTSTAMP:20260420T043532Z
DTSTART:20251219T160000Z
DTEND:20251219T180000Z
SUMMARY:İhtimamın Hâlleri
DESCRIPTION:“İhtimamın Hâlleri” programı\, İstanbul Experimental’in kurucu direktörü Yavuz Gözeller iş birliğiyle hazırlanan bir kısa film seçkisiyle devam ediyor. 1990’lardan günümüze uzanan seçki\, animasyon\, elle işleme ve fotokimyasal manipülasyon gibi teknikleri kullanan deneysel çalışmaları bir araya getiriyor. #girişücretsiz\n\n“Forms of Care” continues with a selection of short experimental works curated in collaboration with filmmaker Yavuz Gözeller\, founding director of Istanbul Experimental. Spann...
LOCATION:Salt Beyoğlu\, Açık Sinema\, İstanbul\, Turkey
END:VEVENT
END:VCALENDAR
