BEGIN:VCALENDAR
VERSION:2.0
PRODID:-//Istanbul Experimental//Events//EN
BEGIN:VEVENT
UID:7@istanbulexperimental.com
DTSTAMP:20260420T043152Z
DTSTART:20260129T160000Z
DTEND:20260130T180000Z
SUMMARY:Istanbul Experimental Weekend | Pristina
DESCRIPTION:PRISTINA - KINO ARMATA | 29-30 OCAK\n\nAt the end of January\, we welcome audiences in Prishtina to the cinema for a bold selection of experimental films and a daring live performance exploring the boundaries of cinema.\n\nJanuary 29 | 19:00 Turkish Experimental Films (73 min)\n\nA journey through contemporary Turkish experimental cinema\, exploring memory\, landscape\, violence\, and the fragments of daily life transformed into moving image paintings.\n\nFilms\n\nImpressions of a Summer - Ayça Çiftçi (12 m...
LOCATION:Kino Armata\, Pristina\, Kosova
END:VEVENT
END:VCALENDAR
