BEGIN:VCALENDAR
VERSION:2.0
PRODID:-//Istanbul Experimental//Events//EN
BEGIN:VEVENT
UID:8@istanbulexperimental.com
DTSTAMP:20260420T044029Z
DTSTART:20260131T160000Z
DTEND:20260201T180000Z
SUMMARY:Istanbul Experimental Weekend | Prizren
DESCRIPTION:[SCREENING & PERFORMANCE]\n\nJoin us in Prizren for two evenings of experimental cinema and live performance\, where you'll encounter some of the most compelling voices challenging and reimagining the boundaries of moving image.\n\nFrom Turkish filmmakers exploring memory and trauma through impressionist landscapes and coded wartime expressions\, to international artists examining surveillance\, digital identity\, and resistance—the program culminates in GET OUT OF THERE!\, a heart-pounding live audio...
LOCATION:Doku Kino\, Prizren\, Kosova
END:VEVENT
END:VCALENDAR
