BEGIN:VCALENDAR
VERSION:2.0
PRODID:-//Istanbul Experimental//Events//EN
BEGIN:VEVENT
UID:10@istanbulexperimental.com
DTSTAMP:20260422T221401Z
DTSTART:20190727T170000Z
DTEND:20190727T205900Z
SUMMARY:Jamais Vu: Experimental Film Selection + Jtamul DJ Set
DESCRIPTION:Friday\, July 27 Screening: 20:30 | Performance: 22:30 Eldem Sanat Alanı\, Eskişehir\n\nJoin us for an evening of experimental cinema and sound as Eldem Sanat Alanı presents "Jamais Vu\," a curated selection of films from the 2018 Istanbul International Experimental Film Festival\, followed by a special DJ set by Jtamul.\n\nProgramme curated by Müge Kayacan:\n\nPivot / Maki Satake / 2017 / 6' / Japan \n\nCinema Zone / Li-Ning Cheng / 2018 / 19'56'' / Taiwan \n\nabsencexpresence / Aslı Narin\, Gürkan Mıhçı /...
LOCATION:Eldem Sanat Alanı\, Eskişehir\, Türkiye
END:VEVENT
END:VCALENDAR
