BEGIN:VCALENDAR
VERSION:2.0
PRODID:-//Istanbul Experimental//Events//EN
BEGIN:VEVENT
UID:2@istanbulexperimental.com
DTSTAMP:20260420T043153Z
DTSTART:20240614T150000Z
DTEND:20240615T020000Z
SUMMARY:PASSAGE BY NIGHT
DESCRIPTION:İstanbul Experimental Sunar: “PASSAGE BY NIGHT”\n\nİstanbul Experimental sizi Fitaş Pasajında aşk\, gözyaşı ve sevinç çığlıklarıyla dolu karnavalesk bir geceye davet ediyor!\n“Silindir şapkaları\, uzun siyah frakları” ile sahneye çıkar\, “topuklu çizmeler\, vücudu saran deri pantolon\, ceket ve montgomerler giyerlerdi.” \n60’lardan beri Beyoğlu’nun seyir kültürünün yapı taşlarından biri olan Fitaş Pasajı\, sinema gösterimlerinin yanı sıra “Sinema Konserleri” serisi ile İstanbul’un underground müzik per...
LOCATION:Fitaş Pasajı\, İstanbul
END:VEVENT
END:VCALENDAR
