BEGIN:VCALENDAR
VERSION:2.0
PRODID:-//Istanbul Experimental//Events//EN
BEGIN:VEVENT
UID:6@istanbulexperimental.com
DTSTAMP:20260422T221549Z
DTSTART:20191120T090000Z
DTEND:20191124T190000Z
SUMMARY:Selection of Turkish Experimental Films
DESCRIPTION:We're excited to announce that Istanbul Experimental will be presenting a special program at UltraCinema 2019 in Mexico.\n\nThis program\, curated by Çağrı Alver\, brings together some of the most distinctive voices in contemporary Turkish experimental cinema\, offering Mexican audiences a rare opportunity to experience the cutting-edge of Istanbul's avant-garde film scene.\n\nScreening Program:\n\nTHIS BRUTAL WORLD\nSerra Duran (Turkey\, 2018) 8 min.\n\nABSENCEXPRESENCE\nAslı Narin\, Gürkan Mihci (Turkey\, ...
LOCATION:Cine Too\, San Pablo Guelatao\, Mexico
END:VEVENT
END:VCALENDAR
