BEGIN:VCALENDAR
VERSION:2.0
PRODID:-//Istanbul Experimental//Events//EN
BEGIN:VEVENT
UID:9@istanbulexperimental.com
DTSTAMP:20260420T044028Z
DTSTART:20260201T160000Z
DTEND:20260201T170000Z
SUMMARY:Selection of Turkish Experimental Films
DESCRIPTION:Istanbul Experimental presents a special selection at the 36th Bamberg Short Film Festival\, bringing together striking examples of experimental cinema from Turkey. Exploring the boundaries between memory\, landscape\, trauma\, and mythology\, these five films range from visual poetry to sound-image experiments\, from family archives to historical memory\, expanding the narrative possibilities of experimental cinema in different ways.\n\nFilms\n\n1. Impressions of a Summer\nDirector: Ayça Çiftçi | 2020 |...
LOCATION:Lichtspiel Kino\, Bamberg\, Germany
END:VEVENT
END:VCALENDAR
