BEGIN:VCALENDAR
VERSION:2.0
PRODID:-//Istanbul Experimental//Events//EN
BEGIN:VEVENT
UID:5@istanbulexperimental.com
DTSTAMP:20260422T221401Z
DTSTART:20191031T150000Z
DTEND:20191104T190000Z
SUMMARY:Weekend on the Moon 
DESCRIPTION:We're thrilled to announce our participation in Weekend on the Moon\, organized by Circuito Nomadica  in collaboration with Revista Lumière\, Magasinet Walden\, UnzaLab\, Found Footage Magazine\, Movimcat\, and La Camera Ardente.\nThis weekend event features an extraordinary program of films that push the boundaries of cinema. For the full schedule\, visit nomadica.eu\n"Between Transcendence and Immanence"\nA selection of contemporary Turkish experimental cinema curated by Yavuz Gozeller\nSunday\, 16:30\n...
LOCATION:Menomale\, Bologna\, Italy
END:VEVENT
END:VCALENDAR
