BEGIN:VCALENDAR
VERSION:2.0
PRODID:-//Istanbul Experimental//Events//EN
BEGIN:VEVENT
UID:243@istanbulexperimental.com
DTSTAMP:20260422T085617Z
DTSTART:20181123T153000Z
DTEND:20181123T173000Z
SUMMARY:Screening & Talk: Coming to Terms "Jon Jost"
DESCRIPTION:Istanbul International Experimental Film Festival presents a special screening of “Coming to Terms”\, followed by a discussion with it’s director known as the master of experimental filmmaking Jon Jost and Roxanne Roger who is an actress in Coming to Terms.\n\nComing to Terms\n\nCouched as a fictional story\, Coming to Terms is a meditation on a death\, and its psychological impact on a fractured and divided family.  Its formal structure is far from normal narrative story-telling  in the cinema.\n\nA ...
LOCATION:Soho House Istanbul\, Evliya Çelebi\, Meşrutiyet Cd. No:56\, 34430 Beyoğlu/İstanbul
END:VEVENT
END:VCALENDAR
