BEGIN:VCALENDAR
VERSION:2.0
PRODID:-//Istanbul Experimental//Events//EN
BEGIN:VEVENT
UID:630@istanbulexperimental.com
DTSTAMP:20260420T062452Z
DTSTART:20181121T170000Z
DTEND:20181121T190000Z
SUMMARY:Special Screening & Performance: Mimaroğlu
DESCRIPTION:The Istanbul International Experimental Film Festival will host a special opening event on Wednesday\, November 21 at Vault34.\n\nThe event will feature an exclusive 7-minute preview screening of the upcoming film “A Documentary Project: Mimaroğlu”\, which explores the life of pioneering electronic music composer and Atlantic Records producer İlhan Mimaroğlu. The screening will be presented for the first time alongside a talk with the film’s director Serdar Kökçeoğlu and producer Dilek Aydın.\n\nTh...
LOCATION:Vault34 Yeşilçam Sineması\, Şehit Muhtar Neighborhood. İmam Adnan Street\, No: 8 Beyoğlu\, Istanbul Turkey
END:VEVENT
END:VCALENDAR
