BEGIN:VCALENDAR
VERSION:2.0
PRODID:-//Istanbul Experimental//Events//EN
BEGIN:VEVENT
UID:485@istanbulexperimental.com
DTSTAMP:20260420T081706Z
DTSTART:20211118T180000Z
DTEND:20211118T200000Z
SUMMARY:Dive Into the Festival Party - Part 2
DESCRIPTION:Festival partileri hız kesmeden devam ediyor. Minimüzikhol’un ev sahipliği yapacağı gecede Ece Özel\, Taha Kiremitci ve Çerikunda’nın müzikleriyle dansa herkesi dansa davet ediyoruz.
LOCATION:MiniMüzikhol
END:VEVENT
END:VCALENDAR
