BEGIN:VCALENDAR
VERSION:2.0
PRODID:-//Istanbul Experimental//Events//EN
BEGIN:VEVENT
UID:484@istanbulexperimental.com
DTSTAMP:20260420T082537Z
DTSTART:20211113T180000Z
DTEND:20211113T200000Z
SUMMARY:Dive Into the Festival Party
DESCRIPTION:İstanbul yeraltı sahnesinin en yüksek sesli 5 DJ'i\, dans garantili bir partide buluşuyor. Iskeletor \, Sami Baha\, Hop3\, PapaRoncalli ve festivalin çocuğu Braderin öncesinde 13 Kasım Cumartesi akşamı saat 21.00'da Dam'da.
LOCATION:Dam\, Asmalı Mescit\, Panaiya Apt\, Emir Nevruz Sk. D:2
END:VEVENT
END:VCALENDAR
