BEGIN:VCALENDAR
VERSION:2.0
PRODID:-//Istanbul Experimental//Events//EN
BEGIN:VEVENT
UID:486@istanbulexperimental.com
DTSTAMP:20260420T082412Z
DTSTART:20211121T180000Z
DTEND:20211121T200000Z
SUMMARY:Festival Closing Party
DESCRIPTION:Dolu dolu geçen bir festivalin son gününde Eylül Deniz\, Utkanj ve Nidal'le ödül töreni ardından festivali yine hep birlikte kapatıyoruz. 
LOCATION:Zeytuna
END:VEVENT
END:VCALENDAR
