BEGIN:VCALENDAR
VERSION:2.0
PRODID:-//Istanbul Experimental//Events//EN
BEGIN:VEVENT
UID:483@istanbulexperimental.com
DTSTAMP:20260422T085418Z
DTSTART:20211117T173000Z
DTEND:20211117T193000Z
SUMMARY:Konstrukt (Konser) + Volkan Judocu (Dj set) 
DESCRIPTION:2008 yılında Umut Çağlar ve Korhan Futacı tarafından Istanbul'da kurulan Konstrukt bu yıl 13. yaşını kutluyor. Topluluk\, müzikal serüvenlerinde\, Peter Brötzmann\, Joe McPhee\, Akira Sakata\, Evan Parker\, Marshall Allen\, Thurston Moore\, Keiji Haino\, William Parker\, Okay Temiz gibi birçok değerli müzisyenle aynı sahneyi paylaştı ve ortak çalışmalar geliştirdi.\n\nUzun bir aradan sonra ilk canlı performanslarını 3. İstanbul Uluslararası Deneysel Film Festivali kapsamında Arkaoda'da gerçekleştirecek K...
LOCATION:Arkaoda\, Caferağa\, Kadife Sk. No:18/A\, 34710 Kadıköy/İstanbul
END:VEVENT
END:VCALENDAR
