BEGIN:VCALENDAR
VERSION:2.0
PRODID:-//Istanbul Experimental//Events//EN
BEGIN:VEVENT
UID:8@istanbulexperimental.com
DTSTAMP:20260420T082412Z
DTSTART:20250508T120000Z
DTEND:20250508T140000Z
SUMMARY:Hareket Yakalama Atölyesi (Motion Capture)
DESCRIPTION:
LOCATION:Salt Beyoğlu\, Asmalı Mescit\, İstiklal Cd. No:136\, 34430 Beyoğlu/İstanbul
END:VEVENT
END:VCALENDAR
