BEGIN:VCALENDAR
VERSION:2.0
PRODID:-//Istanbul Experimental//Events//EN
BEGIN:VEVENT
UID:84@istanbulexperimental.com
DTSTAMP:20260420T082630Z
DTSTART:20250511T133000Z
DTEND:20250511T143000Z
SUMMARY:In Memoriam: Teoman Madra 
DESCRIPTION:We are gathering to remember and honor Teoman Madra\, a pioneer of media art and an experimental visual artist in Turkey\, by revisiting his work and legacy.\n\nWith his unique aesthetic language shaped through light\, sound\, and time\, Madra transformed technology into a poetic expression and turned art into an experience that could be felt\, not just watched. This in memoriam event will reflect traces of his 94-year-long creative journey and will feature a talk by artist\, academic\, and musician Se...
LOCATION:Salt Beyoğlu\, Asmalı Mescit\, İstiklal Cd. No:136\, 34430 Beyoğlu/İstanbul
END:VEVENT
END:VCALENDAR
