BEGIN:VCALENDAR
VERSION:2.0
PRODID:-//Istanbul Experimental//Events//EN
BEGIN:VEVENT
UID:63@istanbulexperimental.com
DTSTAMP:20260420T082403Z
DTSTART:20250510T141500Z
DTEND:20250510T160000Z
SUMMARY:Masterclass: Total Refusal - Introduction into Critical Gaming and Machinima
DESCRIPTION:[Red Dead Redemption by Total Refusal]In this 90min masterclass\, Total Refusal will provide an entry point into the critical reading and appropriation of gaming media. A look at some of the lesser known projects of the collective will provide an overview of different artistic strategies and tools of appropriation. The masterclass will also dive into the role of video games as hegemony machines\, looking at how the neoliberal decades have shaped this poster boy media of late stage capitalist me...
LOCATION:Hope Alkazar\, Kuloğlu\, İstiklal Cd.\, 34433 Beyoğlu/İstanbul
END:VEVENT
END:VCALENDAR
