BEGIN:VCALENDAR
VERSION:2.0
PRODID:-//Istanbul Experimental//Events//EN
BEGIN:VEVENT
UID:46@istanbulexperimental.com
DTSTAMP:20260420T082244Z
DTSTART:20250510T103000Z
DTEND:20250510T113000Z
SUMMARY:Screening & Talk: Richard Philpott
DESCRIPTION:Richard Philpott’s “aye” film series is a body of work that has drawn attention within experimental cinema for its interrogation of themes such as identity\, subjectivity\, and the nature of art. Its most distinctive gesture lies in its deconstruction of the concepts of “identity” and “personality.” Developed through his alter ego Flipot\, the “aye” series continually reiterates not only the attempt of a subject to prove its own existence\, but also the intuition that this existence may be an ill...
LOCATION:Salt Beyoğlu\, Asmalı Mescit\, İstiklal Cd. No:136\, 34430 Beyoğlu/İstanbul
END:VEVENT
END:VCALENDAR
