BEGIN:VCALENDAR
VERSION:2.0
PRODID:-//Istanbul Experimental//Events//EN
BEGIN:VEVENT
UID:45@istanbulexperimental.com
DTSTAMP:20260420T082537Z
DTSTART:20250509T170000Z
DTEND:20250509T190000Z
SUMMARY:ZeNistan:  A Live Documentary Experience 
DESCRIPTION:As part of the 6th Istanbul International Experimental Film Festival\, this special screening marks the return of the legendary psychedelic band ZeN in a unique format. Director Serdar Kökçeoğlu’s documentary-in-progress ZeNistan brings together never-before-seen archival footage with a live improvisational performance by Murat Ertel.\n\nHaving sifted through hundreds of hours of ZeN’s archives\, Kökçeoğlu and screenwriter Elif Dizdaroğlu will take the stage alongside the band’s founder Murat Ert...
LOCATION:Hope Alkazar\, Kuloğlu\, İstiklal Cd.\, 34433 Beyoğlu/İstanbul
END:VEVENT
END:VCALENDAR
