BEGIN:VCALENDAR
VERSION:2.0
PRODID:-//Istanbul Experimental//Events//EN
BEGIN:VEVENT
UID:744@istanbulexperimental.com
DTSTAMP:20260420T065345Z
DTSTART:20260516T140000Z
DTEND:20060516T150000Z
SUMMARY:1960’lı Yıllar Yugoslavya Alternatif Sineması - Yeni Sinema\, Deneysel Sinema ve Kara Dalga
DESCRIPTION:II. Dünya Savaşı'ndan sonra kurulan sosyalist Yugoslavya'nın ilk yıllarında sanat üretiminde sosyalist gerçekçi sanat anlayışı benimsenmiştir. Ancak kısa bir süre sonra\, 1948'de Sovyetler Birliği ile yaşanan çatışmanın ardından Yugoslavya\, her alanda Sovyetler Birliği ile olan yakınlığına mesafe koymuş\; bu tutum sanat alanında da kendini göstermiştir. Bir yandan Sovyetler Birliği'nden alınan sosyalist gerçekçi sanat anlayışı Yugoslav değerlerinin inşası için kullanılmış\, öte yandan farklı san...
LOCATION:Salt Galata\, Arap Cami\, Bankalar Cd. No:11\, 34420 Beyoğlu/İstanbul
END:VEVENT
END:VCALENDAR
