BEGIN:VCALENDAR
VERSION:2.0
PRODID:-//Istanbul Experimental//Events//EN
BEGIN:VEVENT
UID:751@istanbulexperimental.com
DTSTAMP:20260422T221356Z
DTSTART:20260515T140000Z
DTEND:20260515T150000Z
SUMMARY:1960'lı Yıllar Yugoslavya Alternatif Sineması: Yeni Sinema\, Deneysel Sinema ve Kara Dalga
DESCRIPTION:II. Dünya Savaşı'ndan sonra kurulan sosyalist Yugoslavya'nın ilk yıllarında benimsenen sosyalist gerçekçi sanat anlayışı\, 1948'de Sovyetler Birliği ile yaşanan çatışmanın ardından köklü bir dönüşüme uğramıştır. Yugoslavya'nın Sovyetler'den ideolojik olarak uzaklaşması\, sanat alanına da yansımış\; farklı sanat anlayışlarına kapı aralanmıştır. Bu ortamda 1960'lı yıllardan itibaren Yugoslavya sineması\, yakın geçmişin sanat anlayışına tepki veren yeni bir ivme kazanmıştır. Yeni Sinema\, Anti-Film\, ...
LOCATION:Salt Galata\, Arap Cami\, Bankalar Cd. No:11\, 34420 Beyoğlu/İstanbul
END:VEVENT
END:VCALENDAR
