BEGIN:VCALENDAR
VERSION:2.0
PRODID:-//Istanbul Experimental//Events//EN
BEGIN:VEVENT
UID:748@istanbulexperimental.com
DTSTAMP:20260420T045338Z
DTSTART:20260513T160000Z
DTEND:20260513T180000Z
SUMMARY:In Memoriam: Mimaroğlu at 100
DESCRIPTION:İlhan Mimaroğlu’nun kariyerine ve müzik tutkusuna kapsamlı bir bakış sunan Mimaroğlu belgeselinin hazırlık sürecinde\, İlhan ve Güngör Mimaroğlu’nun ortak kaset arşivi de gün yüzüne çıktı. Bu kasetleri dijitale aktaran İstanbul merkezli prodüktör ve DJ Grup Ses\, hem Mimaroğlu’nun hazırladığı radyo programlarından kayıtları hem de çiftin kişisel koleksiyonunda yer alan — kimi kendilerine hediye edilmiş — kasetlerden seçtiği kesit ve parçaları bir araya getirerek özel bir set oluşturdu. Linda Sh...
LOCATION:Salt Beyoğlu\, Asmalı Mescit\, İstiklal Cd. No:136\, 34430 Beyoğlu/İstanbul
END:VEVENT
END:VCALENDAR
