BEGIN:VCALENDAR
VERSION:2.0
PRODID:-//Istanbul Experimental//Events//EN
BEGIN:VEVENT
UID:749@istanbulexperimental.com
DTSTAMP:20260420T045406Z
DTSTART:20260513T140000Z
DTEND:20260513T150000Z
SUMMARY:Three Films by Gernot Wieland
DESCRIPTION:Gernot Wieland's films resist easy categorization. Neither documentary nor fiction\, neither autobiography nor myth\, yet they carry traces of all these forms. The Austrian artist and filmmaker uses his own voice and memories as raw material\, constructing a cinematic language that maps the repressed\, the lost\, and the unspeakable.\n\nThree Films by Gernot Wieland brings together three works from different moments in the artist's practice\, a program that oscillates between past and present\, where ...
LOCATION:Salt Beyoğlu\, Asmalı Mescit\, İstiklal Cd. No:136\, 34430 Beyoğlu/İstanbul
END:VEVENT
END:VCALENDAR
